BEGIN:VCALENDAR
VERSION:2.0
PRODID:icalendar-ruby
CALSCALE:GREGORIAN
BEGIN:VEVENT
DTSTAMP:20260424T075910Z
UID:3578eda2-b8cd-4191-baca-445ed799391b
DTSTART;VALUE=DATE:20260401
DESCRIPTION:Property ID# 605112\, Locatoin: Holmwood Auction Rooms\, 397 Il
 am Road\, Ilam  (Unless Sold Prior)\, Time: 10:00AM
SUMMARY:Auction for 
END:VEVENT
END:VCALENDAR
